BEGIN:VCALENDAR
VERSION:2.0
PRODID:-//Fires Catalanes - ECPv6.13.1//NONSGML v1.0//EN
CALSCALE:GREGORIAN
METHOD:PUBLISH
X-WR-CALNAME:Fires Catalanes
X-ORIGINAL-URL:https://firescatalanes.cat
X-WR-CALDESC:Fires per Fires Catalanes
REFRESH-INTERVAL;VALUE=DURATION:PT1H
X-Robots-Tag:noindex
X-PUBLISHED-TTL:PT1H
BEGIN:VTIMEZONE
TZID:Europe/Madrid
BEGIN:DAYLIGHT
TZOFFSETFROM:+0100
TZOFFSETTO:+0200
TZNAME:CEST
DTSTART:20260329T010000
END:DAYLIGHT
BEGIN:STANDARD
TZOFFSETFROM:+0200
TZOFFSETTO:+0100
TZNAME:CET
DTSTART:20261025T010000
END:STANDARD
END:VTIMEZONE
BEGIN:VEVENT
DTSTART;VALUE=DATE:20260422
DTEND;VALUE=DATE:20260427
DTSTAMP:20260422T035452
CREATED:20250128T130528Z
LAST-MODIFIED:20260203T231227Z
UID:10000363-1776816000-1777247999@firescatalanes.cat
SUMMARY:Barcelona Bridal Fashion Week
DESCRIPTION:La Barcelona Bridal Fashion Week se celebra a la ciutat de Barcelona\, en plena comarca del Barcelonès. És un esdeveniment internacional dedicat a la moda nupcial i de cerimònia\, que combina una passarel·la de gran prestigi amb una àmplia zona comercial profesional. \nEl format i el recinte\nOrganitzada per Fira de Barcelona\, la fira té lloc al recinte de Montjuïc\, situat a l’avinguda de la Reina Maria Cristina\, amb accés per la plaça Espanya. La superfície expositiva inclou diversos pavellons i espais oberts que permeten acollir tant desfilades com el trade show. Aquesta localització ofereix una combinació perfecta de visibilitat\, accessibilitat i capacitat tècnica per a un esdeveniment de gran format. \nPassarel·les i desfilades de dissenyadors\nA la passarel·la de Barcelona Bridal\, que habitualment es desenvolupa al Pavelló 8\, es presenta una selecció internacional de col·leccions de moda de núvia\, cerimònia i invitada. Firmes com Yolancris\, Marco & María\, Sophie et Voilà\, Isabel Sanchís o The Atelier by Jimmy Choo han desfilat en edicions recents. L’edició de 2025 va destacar per ser la primera col·lecció bridal d’una casa icònica com Vivienne Westwood\, presentada a l’espai del claustre de la Universitat de Barcelona\, en la Barcelona Bridal Night. \nTrade Show: marca i negoci\nEl trade show s’estén en diversos pavellons i en la plaça del recinte\, creant un espai professional on més de 450 marques (un 82 % de fora d’Espanya) presenten les seves col·leccions a compradors internacionals i mitjans especialitzats. És un punt clau per establir contactes\, negociar\, i descobrir tendències emergents en el sector nupcial i de festa. \nEls espais comercials\nEls pavellons 1 i 2 i la plaça exterior conformen la part comercial principal. Aquesta edició va incorporar el concepte “The Edit Barcelona”\, dedicat a marques emergents i tallers artesanals catalans\, reforçant l’arrel local i el llegat tèxtil. \nCompromís amb la sostenibilitat i la innovació\nL’edició de 2025 va incloure un redisseny de l’espai per millorar la fluïdesa\, la interacció i l’experiència dels assistents\, amb una aposta clara per la sostenibilitat. Es van implementar mesures com utilitzar materials reciclats\, digitalitzar processos i promoure l’impacte social positiu\, inclòs el disseny sostenible i la donació de restes alimentàries. \nImportància d’aquesta fira\nBBFW ha esdevingut un referent global en moda nupcial. Les xifres confirmen la seva magnitud: més de 23 500 visitants i 450 marques a l’edició de 2025\, amb una presència massiva de compradors internacionals. També ha suposat un impacte econòmic notable per a Barcelona com a epicentre del bridal global. \nPer a qui és aquesta fira?\nProfessionals del sector nupcial o de festa\, marca emergents\, compradors internacionals\, periodistes de moda i dissenyadors de moda de cerimònia trobaran en BBFW una plataforma clau: no només per mostrar noves col·leccions\, sinó per generar networking\, descobrir talent i establir vincles comercials.
URL:https://firescatalanes.cat/fires/barcelona-bridal-fashion-week/
LOCATION:Fira de Barcelona\, Plaça Marquès de Foronda Mont\, 5\, Barcelona\, Barcelonès\, 08038\, Espanya
CATEGORIES:Nuvis i celebracions
ATTACH;FMTTYPE=image/jpeg:https://firescatalanes.cat/wp-content/uploads/2025/01/Barcelona-Bridal-Fashion-Week-portada-1.jpg
ORGANIZER;CN="Fira Barcelona":MAILTO:hispack.ventas@firabarcelona.com
GEO:41.370629804416;2.1514374307831
X-APPLE-STRUCTURED-LOCATION;VALUE=URI;X-ADDRESS=Fira de Barcelona Plaça Marquès de Foronda Mont 5 Barcelona Barcelonès 08038 Espanya;X-APPLE-RADIUS=500;X-TITLE=Plaça Marquès de Foronda Mont\, 5:geo:2.1514374307831,41.370629804416
END:VEVENT
END:VCALENDAR