BEGIN:VCALENDAR
VERSION:2.0
PRODID:-//Fires Catalanes - ECPv6.13.1//NONSGML v1.0//EN
CALSCALE:GREGORIAN
METHOD:PUBLISH
X-WR-CALNAME:Fires Catalanes
X-ORIGINAL-URL:https://firescatalanes.cat
X-WR-CALDESC:Fires per Fires Catalanes
REFRESH-INTERVAL;VALUE=DURATION:PT1H
X-Robots-Tag:noindex
X-PUBLISHED-TTL:PT1H
BEGIN:VTIMEZONE
TZID:Europe/Madrid
BEGIN:DAYLIGHT
TZOFFSETFROM:+0100
TZOFFSETTO:+0200
TZNAME:CEST
DTSTART:20210328T010000
END:DAYLIGHT
BEGIN:STANDARD
TZOFFSETFROM:+0200
TZOFFSETTO:+0100
TZNAME:CET
DTSTART:20211031T010000
END:STANDARD
BEGIN:DAYLIGHT
TZOFFSETFROM:+0100
TZOFFSETTO:+0200
TZNAME:CEST
DTSTART:20220327T010000
END:DAYLIGHT
BEGIN:STANDARD
TZOFFSETFROM:+0200
TZOFFSETTO:+0100
TZNAME:CET
DTSTART:20221030T010000
END:STANDARD
BEGIN:DAYLIGHT
TZOFFSETFROM:+0100
TZOFFSETTO:+0200
TZNAME:CEST
DTSTART:20230326T010000
END:DAYLIGHT
BEGIN:STANDARD
TZOFFSETFROM:+0200
TZOFFSETTO:+0100
TZNAME:CET
DTSTART:20231029T010000
END:STANDARD
BEGIN:DAYLIGHT
TZOFFSETFROM:+0100
TZOFFSETTO:+0200
TZNAME:CEST
DTSTART:20240331T010000
END:DAYLIGHT
BEGIN:STANDARD
TZOFFSETFROM:+0200
TZOFFSETTO:+0100
TZNAME:CET
DTSTART:20241027T010000
END:STANDARD
END:VTIMEZONE
BEGIN:VEVENT
DTSTART;VALUE=DATE:20241019
DTEND;VALUE=DATE:20241020
DTSTAMP:20260422T040533
CREATED:20250203T121054Z
LAST-MODIFIED:20260112T183126Z
UID:10001269-1729296000-1729382399@firescatalanes.cat
SUMMARY:Mercadisc a Sant Feliu de Guíxols
DESCRIPTION:Presentació de Mercadisc\nLa Mercadisc és una fira dedicada al col·leccionisme de música (vinils\, CDs\, llibres\, pòsters…) que se celebra anualment a Sant Feliu de Guíxols\, un municipi costaner del Baix Empordà. Organitzada per l’Associació Amics de la Música dels Anys 60 amb el suport de l’Ajuntament\, aquesta cita és la més veterana de Catalunya en el seu àmbit. \nUbicació i dates\nTradicionalment té lloc al llarg de la Rambla\, entre la Plaça del Mercat i el tram central\, amb un horari continuat de 10 h a 20 h. L’edició de 2023 es va celebrar el 10 de setembre\, i la de 2024 el 19 d’octubre —reprogramada després de la suspensió per pluja— amb horari de 10 h a 20 h. \nActivitats i oferiment\nMercadisc concentra expositors especialitzats en discogràfica\, llibres\, DVD i altres objectes musicals. És freqüent trobar: \n\nVinils rars i edicions clàssiques o contemporànies.\nCDs de temporades diverses.\nLlibres i pòsters relacionats amb la història de la música.\nActuacions en directe o concerts acústics\, com el de Bazaga’s a l’edició 2024 a la Plaça Sant Joan :contentReference[oaicite:2]{index=2}.\n\nHistòria i evolució\nAmb més de 25 edicions\, Mercadisc va començar al 1999 en una carpa dels Jardins Juli Garreta amb només sis expositors\, i avui dia reuneix una vintena d’actors que porten un ampli ventall de material musical :contentReference[oaicite:3]{index=3}. És considerada la fira del disc més antiga de Catalunya que encara perdura :contentReference[oaicite:4]{index=4}. \nPerfil del públic\nAquest mercat atreu col·leccionistes\, melòmans de totes les edats\, curiosos\, turistes culturals i famílies. El seu caràcter gratuït obre la porta tant a aficionats com a visitants que gaudeixen d’un ambient distès\, prop de la Mediterrània. \nEntorn i complement\nMercadisc forma part d’un conjunt de fires temàtiques que es desenvolupen a Sant Feliu de Guíxols durant els caps de setmana de setembre —com la fira de patchwork\, antiguitats o motor— dins la sèrie de “September Fairs” :contentReference[oaicite:5]{index=5}. Això dona al poble una vida activa i variada just després de l’estiu. \nPerspectives per a 2025\nNo s’ha publicat encara informació oficial sobre la pròxima edició del 2025\, però es manté la tradició de celebrar-la a principis de setembre\, amb horari similar i ubicació al centre urbà. No es pot confirmar la presència d’actuacions ni canvis en protocol sense comunicat oficial. \nRaons per visitar Mercadisc\n\nAccés a material musical únic i difícil de trobar.\nPossibilitat de converses amb venedors especialitzats i col·leccionistes.\nGaudir d’un entorn costaner privilegiat\, combinant cultura i natura.\nViu l’ambient festiu i cultural que acompanya altres fires temàtiques de setembre.\n\nConsells per als visitants\n\nArribar d’hora per trobar edicions i expositors menys concorreguts.\nCombinar la visita amb passejos per la Rambla i el Passeig del Mar.\nConsultar el web municipal o canals de turisme a l’estiu per confirmar dates\, especialment si es trasllada per pluja o coincidències.\n\nResum\nMercadisc és una fira local però amb repercussió a tot Catalunya per la seva singularitat i trajectòria. A Sant Feliu de Guíxols\, al Baix Empordà\, combina col·leccionisme musical\, cultura i un entorn mediterrani en un dia atractiu per a públics molt diversos.
URL:https://firescatalanes.cat/fires/mercadisc-a-sant-feliu-de-guixols/
LOCATION:Sant Feliu de Guíxols\, Sant Feliu de Guíxols\, Baix Empordà\, 17220\, Espanya
CATEGORIES:Brocanters, antiguitats, segona mà i oportunitats
ATTACH;FMTTYPE=image/jpeg:https://firescatalanes.cat/wp-content/uploads/2025/02/Guixols-senfira-19-67Gb6W.tmp_.jpg
ORGANIZER;CN="Associaci%C3%B3 dels Amics de la M%C3%BAsica dels anys 60 (AAMA)":MAILTO:turisme@guixols.cat
GEO:41.787768377676;3.0313596259723
END:VEVENT
BEGIN:VEVENT
DTSTART;VALUE=DATE:20241012
DTEND;VALUE=DATE:20241013
DTSTAMP:20260422T040533
CREATED:20250203T100739Z
LAST-MODIFIED:20260112T183115Z
UID:10001097-1728691200-1728691200@firescatalanes.cat
SUMMARY:Fira del Pilar de Col·leccionisme i del Disc a Figueres
DESCRIPTION:La Fira del Pilar de Col·leccionisme i del Disc a Figueres és un esdeveniment imprescindible per a tots els amants del col·leccionisme. Amb horari de 9 a 20h\, ofereix una àmplia varietat de productes que inclouen monedes\, bitllets\, minerals\, joguets\, punts de llibre i molt més. És l’ocasió perfecta per trobar aquell objecte únic que falta a la teva col·lecció. A més\, la fira organitza trobades d’intercanvi de plaques de cava i altres articles com taps corona\, calendaris\, postals i sobres. També hi ha una secció especial dedicada als més joves\, on poden intercanviar cromos\, gormitis\, cartes\, Pokémon i tazos. No et perdis aquesta oportunitat de compartir la teva passió pel col·leccionisme i descobrir tresors inesperats en un ambient animat i familiar.
URL:https://firescatalanes.cat/fires/fira-del-pilar-de-colleccionisme-i-del-disc-a-figueres/
LOCATION:Figueres\, Figueres\, Alt Empordà\, 17600\, Espanya
CATEGORIES:Brocanters, antiguitats, segona mà i oportunitats
ATTACH;FMTTYPE=image/jpeg:https://firescatalanes.cat/wp-content/uploads/2025/02/Fira-del-Pilar-de-Colleccionisme-i-del-Disc-a-Figueres-portada-2023-1-AGVOlv.tmp_.jpg
GEO:42.265993094909;2.9572466532981
END:VEVENT
BEGIN:VEVENT
DTSTART;VALUE=DATE:20241012
DTEND;VALUE=DATE:20241013
DTSTAMP:20260422T040534
CREATED:20250122T181620Z
LAST-MODIFIED:20260112T183107Z
UID:10000297-1728691200-1728691200@firescatalanes.cat
SUMMARY:Fira del Disc a Celrà
DESCRIPTION:D’11 a 21h. Reserveu aquest 12 d’octubre de 2024 perquè s’inaugura la 1a Fira del Disc de Celrà. Aquest any sí que hi haurà alguna cosa a celebrar! Paradistes de discs\, actuacions en directe\, dj’s\, exposicions\, servei de barra i activitats vàries! Gaudiu d’una jornada plena de música i cultura\, on els amants del vinil trobaran tresors únics i els més curiosos podran descobrir nous sons. La fira oferirà espais per a col·leccionistes i aficionats\, amb una selecció acurada de discs de tots els gèneres i èpoques. No us perdeu les actuacions en directe que ompliran l’ambient de ritmes vibrants\, i deixeu-vos portar pel talent dels dj’s que faran ballar tothom. A més\, les exposicions temàtiques us permetran conèixer la història i evolució de la música en format físic. Per completar l’experiència\, gaudiu del servei de barra amb una oferta variada de begudes i aprofiteu les activitats vàries pensades per a totes les edats. La 1a Fira del Disc de Celrà és l’esdeveniment perfecte per compartir la passió per la música en un entorn inigualable. No hi falteu!
URL:https://firescatalanes.cat/fires/fira-del-disc-a-celra/
LOCATION:Celrà\, Celrà\, Gironès\, 17460\, Espanya
CATEGORIES:Brocanters, antiguitats, segona mà i oportunitats
ATTACH;FMTTYPE=image/jpeg:https://firescatalanes.cat/wp-content/uploads/2025/01/Fira-del-Disc-a-Celra-portada-vGjDFf.tmp_.jpg
ORGANIZER;CN="Associaci%C3%B3 DISCORDANTS i Ajuntament de Celr%C3%A0":MAILTO:ajuntament@celra.cat
GEO:42.028353769048;2.8758372683884
END:VEVENT
BEGIN:VEVENT
DTSTART;VALUE=DATE:20240929
DTEND;VALUE=DATE:20240930
DTSTAMP:20260422T040534
CREATED:20250203T121115Z
LAST-MODIFIED:20260113T144020Z
UID:10001276-1727568000-1727568000@firescatalanes.cat
SUMMARY:FiraDisc a Amposta
DESCRIPTION:La FiraDisc d’Amposta és un esdeveniment imprescindible per als amants de la música i els col·leccionistes de discos. Situada a l’exterior de la Oficina de Turisme\, al Passeig Canal\, aquesta fira ofereix una experiència única on els visitants poden explorar una àmplia varietat de vinils\, CD i material musical de totes les èpoques i gèneres. A més de la compra i intercanvi de discos\, la fira compta amb actuacions en directe\, xerrades amb experts del sector i activitats per a tota la família. És una oportunitat perfecta per descobrir novetats musicals\, connectar amb altres aficionats i gaudir d’un ambient vibrant i cultural al cor d’Amposta. No et perdis aquesta cita anual que combina passió\, música i comunitat en un entorn incomparable.
URL:https://firescatalanes.cat/fires/firadisc-a-amposta/
LOCATION:Amposta\, Amposta\, Montsià\, 43870\, Espanya
CATEGORIES:Lleure, cultura popular i esports
ATTACH;FMTTYPE=image/jpeg:https://firescatalanes.cat/wp-content/uploads/2025/02/Fira-Disc-Amposta-9vW1ZK.tmp_.jpg
GEO:40.706816318161;0.58057522353606
END:VEVENT
BEGIN:VEVENT
DTSTART;VALUE=DATE:20240815
DTEND;VALUE=DATE:20240816
DTSTAMP:20260422T040534
CREATED:20250204T102023Z
LAST-MODIFIED:20260113T144049Z
UID:10001497-1723680000-1723680000@firescatalanes.cat
SUMMARY:Fira del disc\, còmic i cine de segona mà a Arenys de Mar
DESCRIPTION:De 9 a 20h\, la Plaça de l’Església d’Arenys de Mar es transforma en un paradís per als amants del col·leccionisme amb la Fira del disc\, còmic i cine de segona mà. Aquest esdeveniment únic ofereix als visitants una oportunitat excepcional per descobrir tresors amagats entre vinils clàssics\, còmics de col·lecció i pel·lícules emblemàtiques. Tant si ets un col·leccionista experimentat com si simplement vols gaudir d’un dia de cultura i entreteniment\, la fira és el lloc perfecte per connectar amb altres apassionats i trobar peces úniques que enriquiran la teva col·lecció personal. A més\, podràs gaudir d’activitats complementàries i d’un ambient animat que farà de la teva visita una experiència inoblidable. No et perdis aquesta cita ineludible per a tots els amants de la cultura pop i el col·leccionisme!
URL:https://firescatalanes.cat/fires/fira-del-disc-comic-i-cine-de-segona-ma-a-arenys-de-mar/
LOCATION:Arenys de Mar\, Arenys de Mar\, Maresme\, 08350\, Espanya
CATEGORIES:Brocanters, antiguitats, segona mà i oportunitats
ATTACH;FMTTYPE=image/jpeg:https://firescatalanes.cat/wp-content/uploads/2025/02/Fira-disc-arenys-de-mar-84mnIV.tmp_.jpg
GEO:41.580123526292;2.551088501386
END:VEVENT
BEGIN:VEVENT
DTSTART;VALUE=DATE:20240301
DTEND;VALUE=DATE:20240302
DTSTAMP:20260422T040534
CREATED:20250204T112414Z
LAST-MODIFIED:20260113T144109Z
UID:10001653-1709251200-1709251200@firescatalanes.cat
SUMMARY:Mercat del disc a Granollers
DESCRIPTION:El Mercat del Disc de Granollers és una cita imprescindible per als amants de la música i els col·leccionistes. Aquest petit mercat de música de segona mà\, que comença a les 10h i s’allarga durant tot el dia\, ofereix una àmplia varietat de vinils\, CD\, cassets i altres formats musicals que abasten tots els gèneres i èpoques. A més de ser un lloc ideal per trobar aquella peça única que falta a la teva col·lecció\, el mercat és també un espai de trobada per a melòmans i professionals del sector\, on es poden intercanviar experiències i coneixements. Amb un ambient acollidor i vibrant\, el Mercat del Disc de Granollers és l’ocasió perfecta per redescobrir clàssics\, descobrir nous artistes i gaudir de la música en un entorn únic. No et perdis aquesta oportunitat de viure la passió per la música en primera persona!
URL:https://firescatalanes.cat/fires/mercat-del-disc-a-granollers/
LOCATION:Granollers\, Granollers\, Vallès Oriental\, 08401\, Espanya
CATEGORIES:Brocanters, antiguitats, segona mà i oportunitats
ATTACH;FMTTYPE=image/jpeg:https://firescatalanes.cat/wp-content/uploads/2025/02/Mercat-del-disc-a-Granollers-portada-min-yh29Ss.tmp_.jpg
GEO:41.60613898983;2.2871656422199
END:VEVENT
BEGIN:VEVENT
DTSTART;VALUE=DATE:20231201
DTEND;VALUE=DATE:20231204
DTSTAMP:20260422T040534
CREATED:20250204T132927Z
LAST-MODIFIED:20260113T144120Z
UID:10001777-1701388800-1701561600@firescatalanes.cat
SUMMARY:Fira del Disc a Tarragona
DESCRIPTION:Tretze expositors es donaran cita en aquesta 3a edició provinents de ciutats com Castelló\, Madrid\, Girona\, València\, Barcelona i dos expositors d’Alemanya i França. \nPer al públic de la Fira del Disc\, un dels principals al·licients i avantatge és “el tracte amb el venedor i la garantia que el que compres està en bon estat i és exactament el que busques\, cosa que a Internet mai se sap”. “A la xarxa\, les possibilitats de trobar-te amb discos ratllats o en mal estat és alta\, i als veritables melòmans i col·leccionistes els agrada veure el material i parlar amb l’expert\, que moltes vegades els aporta informació valuosa sobre allò que tenen davant”. \nEs podran a la venda milers de discos de col·leccionista\, cds\, cassets\, dvds musicals i ofertes constants durant tota la fira. \nHoraris \n\nDivendres 1 de 15 a 20.30 h\nDissabte 2 de 10 a 20.30 h\nDiumenge 3 de 10 a 14.30 h
URL:https://firescatalanes.cat/fires/fira-del-disc-a-tarragona/
LOCATION:Ubicació no definida\, Espanya
CATEGORIES:Brocanters, antiguitats, segona mà i oportunitats
ATTACH;FMTTYPE=image/jpeg:https://firescatalanes.cat/wp-content/uploads/2025/02/Fira-del-Disc-a-Tarragona-portada-23-min-9tElKt.tmp_.jpg
ORGANIZER;CN="Valmusik":MAILTO:ajuntament@tarragona.cat
GEO:41.394486741529;1.9588696962327
END:VEVENT
BEGIN:VEVENT
DTSTART;VALUE=DATE:20231118
DTEND;VALUE=DATE:20231119
DTSTAMP:20260422T040534
CREATED:20250204T133959Z
LAST-MODIFIED:20260112T183331Z
UID:10001825-1700265600-1700265600@firescatalanes.cat
SUMMARY:Fira del disc a Mollet del Vallès
DESCRIPTION:De 10 a 20h\, la Fira del disc al Mercal Vell de Mollet del Vallès és un esdeveniment imprescindible per als amants de la música i col·leccionistes. Organitzada per l’Associació de Col·leccionistes de Mollet\, aquesta fira ofereix una àmplia varietat de vinils\, CD\, i material musical de diverses èpoques i estils. Tant si ets un col·leccionista experimentat com si simplement busques descobrir música nova\, trobaràs tresors amagats i peces úniques que enriquiran la teva col·lecció. A més\, la fira és un punt de trobada per a aficionats i experts\, on podràs intercanviar coneixements i gaudir d’una experiència cultural única. No et perdis l’oportunitat de viure un dia envoltat de bona música i passió col·leccionista en un ambient acollidor i vibrant.
URL:https://firescatalanes.cat/fires/fira-del-disc-a-mollet-del-valles/
LOCATION:Mollet del Vallès\, Mollet del Vallès\, Vallès Oriental\, 08100\, Espanya
CATEGORIES:Brocanters, antiguitats, segona mà i oportunitats
ATTACH;FMTTYPE=image/jpeg:https://firescatalanes.cat/wp-content/uploads/2025/02/Fira-del-Disc-a-Mollet-del-Valles-portada-23-min-ifjsTX.tmp_.jpg
ORGANIZER;CN="Associaci%C3%B3 de Col%C2%B7leccionistes de Mollet":MAILTO:elmussoldemollet@hotmail.com
GEO:41.542682393189;2.2119659142722
END:VEVENT
BEGIN:VEVENT
DTSTART;VALUE=DATE:20231103
DTEND;VALUE=DATE:20231106
DTSTAMP:20260422T040534
CREATED:20250128T133646Z
LAST-MODIFIED:20260112T183321Z
UID:10000495-1698969600-1699142400@firescatalanes.cat
SUMMARY:FiraDisc Cotxeres de Sants
DESCRIPTION:La FiraDisc Cotxeres de Sants és l’esdeveniment perfecte per als amants del col·leccionisme musical i les oportunitats úniques al voltant del món del disc. Durant tres dies\, els visitants poden submergir-se en un univers dedicat exclusivament a la música\, on es poden vendre\, comprar\, intercanviar i descobrir vinils de tots els gèneres i èpoques. Aquesta fira ofereix una experiència inigualable per als col·leccionistes i aficionats que busquen peces rares i edicions limitades\, així com aquells que simplement gaudeixen de la màgia del so analògic. Amb una àmplia varietat de paradetes\, els assistents tenen l’oportunitat de conèixer experts del sector\, intercanviar coneixements i explorar noves tendències musicals. A més\, l’ambient vibrant i acollidor de les Cotxeres de Sants fa d’aquest esdeveniment una cita ineludible per a tots aquells que volen gaudir de la música en el seu format més autèntic i tangible. No et perdis aquesta ocasió única per enriquir la teva col·lecció i viure una experiència musical inoblidable.
URL:https://firescatalanes.cat/fires/firadisc-cotxeres-de-sants/
LOCATION:Les Cotxeres de Sants\, Carrer de Sants 79\, Barcelona\, Catalunya\, 08014\, Espanya
CATEGORIES:Brocanters, antiguitats, segona mà i oportunitats
ATTACH;FMTTYPE=image/jpeg:https://firescatalanes.cat/wp-content/uploads/2025/01/FiraDisc-Cotxeres-de-Sants-portada-23-DBtEUA.tmp_.jpg
GEO:41.375347480063;2.1368832675041
X-APPLE-STRUCTURED-LOCATION;VALUE=URI;X-ADDRESS=Les Cotxeres de Sants Carrer de Sants 79 Barcelona Catalunya 08014 Espanya;X-APPLE-RADIUS=500;X-TITLE=Carrer de Sants 79:geo:2.1368832675041,41.375347480063
END:VEVENT
BEGIN:VEVENT
DTSTART;VALUE=DATE:20220514
DTEND;VALUE=DATE:20220516
DTSTAMP:20260422T040534
CREATED:20250204T121348Z
LAST-MODIFIED:20260112T182514Z
UID:10001718-1652486400-1652572800@firescatalanes.cat
SUMMARY:Fira de la Tapa i el Disc a La Pobla de Lillet
DESCRIPTION:La Fira de la Tapa i el Disc a La Pobla de Lillet és un esdeveniment que combina gastronomia i música en aquesta encantadora localitat del Berguedà. Durant aquesta fira\, els visitants poden gaudir d’una gran varietat de tapes elaborades per restaurants locals\, així com de la música en directe. \nEls assistents tenen l’oportunitat de degustar una àmplia selecció de tapes que representen la cuina tradicional i innovadora de la zona\, tot mentre gaudeixen de l’ambient festiu i animat de la fira. A més\, els establiments participants solen oferir tapes acompanyades de begudes locals com cervesa artesanal\, vi de la regió o altres begudes refrescants. \nPel que fa a la part musical\, la Fira de la Tapa i el Disc també ofereix concerts en viu i altres actuacions musicals en diferents espais del poble. Aquests concerts solen abastar una àmplia varietat de gèneres musicals\, des de la música tradicional catalana fins al pop\, rock o jazz. \nAixí doncs\, la Fira de la Tapa i el Disc a La Pobla de Lillet és una oportunitat perfecta per als amants de la gastronomia i la música per gaudir d’una jornada plena d’activitats\, sabor i entreteniment en un entorn pintoresc i acollidor del Berguedà.
URL:https://firescatalanes.cat/fires/fira-de-la-tapa-i-el-disc-a-la-pobla-de-lillet/
LOCATION:La Pobla de Lillet\, La Pobla de Lillet\, Berguedà\, 08696\, Espanya
CATEGORIES:Gastronòmica i alimentació
ATTACH;FMTTYPE=image/jpeg:https://firescatalanes.cat/wp-content/uploads/2025/02/fira-de-la-tapa-i-el-disc-pobla-de-lillet-1-1-1-Dlro1i.tmp_.jpg
ORGANIZER;CN="Ajuntament de La Pobla de Lillet":MAILTO:lillet@diba.cat
GEO:42.244526305533;1.9753068817587
END:VEVENT
BEGIN:VEVENT
DTSTART;VALUE=DATE:20211218
DTEND;VALUE=DATE:20211219
DTSTAMP:20260422T040534
CREATED:20250204T120442Z
LAST-MODIFIED:20260113T144110Z
UID:10001690-1639785600-1639785600@firescatalanes.cat
SUMMARY:Mercat de les Idees i del Disc de Vinil a Lleida
DESCRIPTION:Al Mercat\, es podrà trobar bijuteria\, joieria\, pintura\, fotografia\, il·lustració\, productes tèxtils\, làser i vinil\, sabó artesà\, llana ecològica filada a mà\, serigrafia\, espelmes i complements creats pels joves artistes i artesans. \nS’organitza paral·lelament una fira del disc per als i les amants del vinil\, juntament amb l’Associació de Comerciants de la Zona Alta.  \nL’objectiu de l’organització d’aquesta iniciativa és donar suport als i les joves que volen emprendre en el sector artístic i col·laborar amb els comerciants de la zona per fer activitats i dinamitzar la plaça.
URL:https://firescatalanes.cat/fires/mercat-de-les-idees-i-del-disc-de-vinil-a-lleida/
LOCATION:Ubicació no definida\, Espanya
CATEGORIES:Artesania, art i manualitats
ATTACH;FMTTYPE=image/jpeg:https://firescatalanes.cat/wp-content/uploads/2025/02/Mercat-de-les-Idees-i-del-Disc-de-Vinil-a-Lleida-cartell-2021-scaled-HUACJq.tmp_.jpg
GEO:41.394486741529;1.9588696962327
END:VEVENT
BEGIN:VEVENT
DTSTART;VALUE=DATE:20210827
DTEND;VALUE=DATE:20210830
DTSTAMP:20260422T040534
CREATED:20250204T110235Z
LAST-MODIFIED:20260112T182813Z
UID:10001580-1630022400-1630195200@firescatalanes.cat
SUMMARY:FiraDisc a Cambrils
DESCRIPTION:La FiraDisc a Cambrils és un esdeveniment imprescindible per als amants del col·leccionisme musical i una cita ineludible per a tots aquells que viuen la música amb passió. Aquest esdeveniment ofereix una àmplia gamma de productes\, des de vinils i CD’s fins a articles de marxandatge exclusius\, llibres especialitzats\, pòsters icònics i DVD musicals. A més\, és el lloc ideal per descobrir rareses i tresors amagats\, així com per intercanviar peces úniques amb altres col·leccionistes apassionats. Amb horari continuat de les 10 h a les 22 h\, els visitants tenen l’oportunitat de submergir-se en un ambient vibrant i enriquidor\, on la música és la protagonista indiscutible. La FiraDisc no només és un mercat\, sinó també un espai de trobada per compartir experiències\, coneixements i la passió comuna per la música i l’audiovisual. No et perdis aquesta ocasió de viure una jornada plena de ritme i descobriments.
URL:https://firescatalanes.cat/fires/firadisc-a-cambrils/
LOCATION:Cambrils\, Cambrils\, Baix Camp\, 43850\, Espanya
CATEGORIES:Brocanters, antiguitats, segona mà i oportunitats
ATTACH;FMTTYPE=image/jpeg:https://firescatalanes.cat/wp-content/uploads/2025/02/FiraDisc-a-Cambrils-G5Div4.tmp_.jpg
GEO:41.067008197444;1.0582040132743
END:VEVENT
END:VCALENDAR