BEGIN:VCALENDAR
VERSION:2.0
PRODID:-//Fires Catalanes - ECPv6.13.1//NONSGML v1.0//EN
CALSCALE:GREGORIAN
METHOD:PUBLISH
X-ORIGINAL-URL:https://firescatalanes.cat
X-WR-CALDESC:Fires per Fires Catalanes
REFRESH-INTERVAL;VALUE=DURATION:PT1H
X-Robots-Tag:noindex
X-PUBLISHED-TTL:PT1H
BEGIN:VTIMEZONE
TZID:Europe/Madrid
BEGIN:DAYLIGHT
TZOFFSETFROM:+0100
TZOFFSETTO:+0200
TZNAME:CEST
DTSTART:20250330T010000
END:DAYLIGHT
BEGIN:STANDARD
TZOFFSETFROM:+0200
TZOFFSETTO:+0100
TZNAME:CET
DTSTART:20251026T010000
END:STANDARD
END:VTIMEZONE
BEGIN:VEVENT
DTSTART;VALUE=DATE:20250523
DTEND;VALUE=DATE:20250526
DTSTAMP:20260425T230958
CREATED:20250130T135734Z
LAST-MODIFIED:20260113T143941Z
UID:10000887-1747958400-1748217599@firescatalanes.cat
SUMMARY:Fira Modernista a Barcelona
DESCRIPTION:La Fira Modernista i Fira del Comerç de Barcelona és un esdeveniment que combina la celebració del modernisme amb la promoció del comerç local a la ciutat de Barcelona. Aquesta fira té lloc en diferents barris de la ciutat i ofereix una oportunitat única per als visitants de viatjar en el temps i reviure l’època daurada del modernisme català\, alhora que gaudeixen de les ofertes comercials dels establiments locals. \nDurant la Fira Modernista\, els carrers i places dels barris participants es transformen en escenaris de l’època modernista\, amb decoracions d’època\, espectacles de carrer\, concerts de música modernista\, visites guiades a edificis emblemàtics modernistes i altres activitats relacionades amb aquest moviment artístic i cultural. \nParal·lelament\, la Fira del Comerç posa de manifest la vitalitat del teixit comercial de Barcelona i ofereix als visitants una àmplia gamma de productes i serveis locals\, des de botigues de moda i complements fins a establiments de restauració i artesania. A més\, els comerços participants solen oferir descomptes especials i promocions exclusives durant els dies de la fira per incentivar les compres locals. \nCom a novetats\, aquest any un espectacle inèdit de dansa i expressió artística dissenyat expressament per a la Fira i dedicat a Àngel Guimerà. En la zona de parades modernistes d’arreu hi trobarem tres novetats: la presència de CHROMA\, empresa referent de la conservació i restauració del patrimoni\, també el modernista; el parc d’atraccions Tibidabo\, que torna i realitzarà una exposició del Tibitour\, la seva visita guiada històrica al parc\, i la Fundació Acicac\, que ens mostrarà les seves activitats al voltant del patrimoni de Catalunya. El taller de malabars de divendres aquest any serà més complet i inclourà una exhibició i una decoració espectaculars. \n 
URL:https://firescatalanes.cat/fires/fira-modernista-a-barcelona/
LOCATION:Ubicació no definida\, Espanya
CATEGORIES:Recreació històrica
ATTACH;FMTTYPE=image/png:https://firescatalanes.cat/wp-content/uploads/2025/01/Fira-Modernista-a-Barcelona-portada-24-min-EZbPxJ.tmp_.png
ORGANIZER;CN="Associaci%C3%B3 de comerciants de la Dreta de l'Eixample":MAILTO:hola@firamodernistadebarcelona.cat
GEO:41.394486741529;1.9588696962327
END:VEVENT
BEGIN:VEVENT
DTSTART;VALUE=DATE:20251003
DTEND;VALUE=DATE:20251006
DTSTAMP:20260425T230958
CREATED:20250128T133029Z
LAST-MODIFIED:20260112T183129Z
UID:10000464-1759449600-1759708799@firescatalanes.cat
SUMMARY:Fira Mercat Modernista a Canet de Mar
DESCRIPTION:La Fira Modernista de Canet és una interessant experiència turística i cultural que permet als visitants i als canetencs\, viatjar en el temps per reviure durant un cap de setmana de setembre\, el Canet de fa cent anys. \nEl llegat modernista és un dels principals atractius patrimonials i culturals de Canet\, sent el seu màxim exponent el genial arquitecte Lluís Domènech i Montaner. Canet és la petita Florència del modernisme maresmenc. \nCada any ens permet vestir el centre històric d’elements\, ambient i figuració completament del segle passat. Donem vida a la població de fa un segle\, els carrers es vesteixen de festa\, i s’omplen de tota mena d’activitats\, amb demostracions d’oficis\, artesania\, teatralitzacions\, música\, exposicions\, rutes culturals\, visites guiades pel patrimoni arquitectònic\, espectacles i tallers per infants\, animació i cercaviles\, comerç al carrer\, pintura\, sardanes\, gegants\, que ens permet reviure l’ambient\, els costums\, els vestits i l’esperit dels anys del modernisme. \n 
URL:https://firescatalanes.cat/fires/fira-mercat-modernista-a-canet-de-mar/
LOCATION:Canet de Mar\, Canet de Mar\, Maresme\, 08360\, Espanya
CATEGORIES:Recreació històrica
ATTACH;FMTTYPE=image/jpeg:https://firescatalanes.cat/wp-content/uploads/2025/01/Fira-Mercat-Modernista-a-Canet-de-Mar-1-1-Tl25z5.tmp_.jpg
ORGANIZER;CN="%C3%80rea de Promoci%C3%B3 Econ%C3%B2mica - Canet de Mar":MAILTO:promocioeconomica@canetdemar.cat
GEO:41.591335323446;2.581383762332
END:VEVENT
BEGIN:VEVENT
DTSTART;VALUE=DATE:20251010
DTEND;VALUE=DATE:20251013
DTSTAMP:20260425T230958
CREATED:20250716T231042Z
LAST-MODIFIED:20260112T183201Z
UID:10003276-1760054400-1760313599@firescatalanes.cat
SUMMARY:Fira Mercat Modernista a La Garriga
DESCRIPTION:Descobrint la Fira Mercat Modernista a La Garriga\nLa Garriga\, situada a la comarca del Vallès Oriental\, recupera cada any l’esperit del modernisme a través de les seves Jornades Modernistes\, una proposta cultural i festiva que inclou\, entre altres\, la Fira – Mercat Modernista. Aquest esdeveniment trasllada visitants a principis del segle XX\, amb parades d’artesania i alimentació\, activitats de carrer\, música\, vestits d’època i espais singulars. \nContext històric i dinamització cultural\nAquesta fira s’emmarca dins les Jornades Modernistes\, una iniciativa que gira al voltant del patrimoni arquitectònic i social de la localitat estiuenca. Durant un cap de setmana\, els carrers s’omplen de recitals\, teatre i visites guiades en unes jornades que promouen la reflexió sobre l’època modernista i la seva influència en el nostre territori. L’Associació Modernista de la Garriga recrea escenes d’estiueig i vetllades culturalment enriquides\, com ara el ball d’envelat\, sardanes i concerts d’època. \nEstructures de la fira\nParades i expositors\nLa fira acull uns 25 expositors\, tots ells especialitzats en artesania alimentària i no alimentària típica del període modernista. Aquests productors presenten melmelades\, formatges\, mel\, productes de forja\, bijuteria i altres obres artesanals\, moltes realitzades segons tècniques tradicionals. Cada espai normalment es distribueix al llarg del carrer Centre i carrer Banys. \nÀmbits d’ambientació\nAquests àmbits inclouen animació de carrer\, activitats infantils i escenes teatralitzades que permeten viure l’experiència del modernisme. També s’organitzen visites guiades per interior de casa de l’època i recorreguts pel patrimoni local\, sovint complementats amb la presència de vestuaris històrics i música en espais emblemàtics. \nPrograma típic de la fira\n\nInauguració amb itinerari públic pels carrers de la fira i espais expositors.\nMercat obert amb parades d’artesania alimentària i no alimentària.\nActivitats infantils: tallers\, animacions i recreació d’oficis d’època.\nEscenes teatralitzades en vestits modernistes en places i façanes singulars.\nMúsica d’època a càrrec de grups locals: sardanes\, ball d’envelat\, petits concerts.\nVisites guiades centrades en el patrimoni modernista i les cases d’estiueig.\n\nCom arribar-hi i informació pràctica\nLa fira se celebra normalment al centre urbà\, tot just al carrer Centre i carrer Banys\, zones cèntriques de la Garriga. L’accés en transport públic és fluid\, amb línia ferroviària de rodalies i servei d’autobusos. Hi ha aparcament públic i àrees de baix emplaçament propers al centre històric. S’aconsella acudir amb antelació per evitar aglomeracions el dissabte al matí. \nImportància i valor per a Catalunya\nAquesta proposta aporta una immersió cultural única pel públic aficionat al modernisme\, amb un equilibri entre el patrimoni\, la tradició artesana i la promoció del territori. Gràcies al suport de la Diputació de Barcelona i entitats locals\, la fira s’ha consolidat com una cita clau
URL:https://firescatalanes.cat/fires/fira-mercat-modernista-la-garriga/
LOCATION:La Garriga\, La Garriga\, Vallès Oriental\, 08530\, Espanya
CATEGORIES:Recreació històrica
ATTACH;FMTTYPE=image/jpeg:https://firescatalanes.cat/wp-content/uploads/2025/07/Fira-Mercat-Modernista-a-La-Garriga-portada25-min.jpg
GEO:41.67994765493;2.2832595566421
END:VEVENT
END:VCALENDAR