BEGIN:VCALENDAR
VERSION:2.0
PRODID:-//Fires Catalanes - ECPv6.13.1//NONSGML v1.0//EN
CALSCALE:GREGORIAN
METHOD:PUBLISH
X-WR-CALNAME:Fires Catalanes
X-ORIGINAL-URL:https://firescatalanes.cat
X-WR-CALDESC:Fires per Fires Catalanes
REFRESH-INTERVAL;VALUE=DURATION:PT1H
X-Robots-Tag:noindex
X-PUBLISHED-TTL:PT1H
BEGIN:VTIMEZONE
TZID:Europe/Madrid
BEGIN:DAYLIGHT
TZOFFSETFROM:+0100
TZOFFSETTO:+0200
TZNAME:CEST
DTSTART:20250330T010000
END:DAYLIGHT
BEGIN:STANDARD
TZOFFSETFROM:+0200
TZOFFSETTO:+0100
TZNAME:CET
DTSTART:20251026T010000
END:STANDARD
END:VTIMEZONE
BEGIN:VEVENT
DTSTART;VALUE=DATE:20250801
DTEND;VALUE=DATE:20250804
DTSTAMP:20260419T143656
CREATED:20250203T121009Z
LAST-MODIFIED:20260112T182823Z
UID:10001268-1754006400-1754265599@firescatalanes.cat
SUMMARY:Fira mediterrània de patchwork a Sant Feliu de Guíxols
DESCRIPTION:Presentació de la Fira Mediterrània de Patchwork\nLa Fira Mediterrània de Patchwork és un esdeveniment dedicat als amants del patchwork i les tècniques de costura creativa que se celebra cada any a Sant Feliu de Guíxols\, un municipi del Baix Empordà. \nUbicació i ambient\nHabitualment té lloc al passeig marítim o la Rambla Antoni Vidal\, amb vista sobre la Mediterrània. Aquest escenari costaner aporta una atmosfera singular\, on es combinen les brises del mar amb l’estètica harmònica del patchwork i els estands de tèxtils\, filats\, botons i altres materials artesanals. El nombre d’expositors sovint és moderat\, permetent un ambient proper i de qualitat. \nActivitats habituals\nTot i que l’oferta concreta pot variar\, en edicions anteriors s’han organitzat: \n\nExposicions de creacions de patchwork de diferents nivells.\nTallers oberts per aprendre o perfeccionar tècniques.\nPunts de venda de material especialitzat.\nEspais de trobada per aficionades que intercanvien idees i coneixements.\n\nHistòria i precedents\nDocumentada almenys des del 2018 (1ª edició coneguda amb un “X Fira Mediterrània de Patchwork” celebrada el 25 d’agost) i amb més referències al 2019 i 2021\, la fira ha consolidat la seva presència com a punt de trobada creatiu a la Costa Brava :contentReference[oaicite:0]{index=0}.\nEl 31 d’agost de 2024 es va celebrar la 13ª edició\, amb horari de 10 h a 20 h al passeig del mar\, davant la Casa Patxot\, organitzada per l’Associació Turística Guixolenca. \nPerfil del públic\nEl públic habitual és divers\, format per: aficionats al patchwork\, persones interessades en tècniques manuals\, artesans\, col·lectius culturals i famílies. És una fira accessible\, sense entrada\, que convida tant a professionals com a persones amb curiositat per aquest art tèxtil. \nContext cultural i territorial\nSant Feliu de Guíxols és un municipi costaner del Baix Empordà\, amb un ric patrimoni cultural. Destaca el Monestir de Sant Feliu i la Porta Ferrada\, i compta amb una agenda plena d’esdeveniments com el Festival Porta Ferrada (juliol-agost)\, la Festa Major l’1 d’agost\, i carnaval. Aquesta riquesa cultural complementa i enriqueix l’experiència de la fira. \nPerspectiva per a l’edició de 2025\nLa fira acostuma a celebrar-se a final d’agost o inicis de setembre\, al llarg d’un cap de setmana\, amb un format molt similar a edicions recents. És habitual que ofereixi horaris amplis (10–20 h)\, tallers i espais de venda\, i que el passeig del mar sigui l’escenari principal. \nPer què visitar-la?\n\nPer descobrir novetats\, tècniques i creacions artesanes.\nPer participar en tallers i enriquir la pròpia pràctica.\nPer gaudir d’un ambient tranquil\, familiar i creatiu\, amb vistes al mar.\nPer explorar un lloc amb patrimoni i cultura activa com Sant Feliu de Guíxols.\n\nConsells per als visitants\n\nConsultar les dates entre agost i setembre: el clima és càlid i pot haver-hi afluència de visitants a la costa.\nAccedir amb temps al passeig marítim per no perdre’s tallers o activitats puntuals.\nFamiliaritzar-se amb els espais patrimonials per combinar cultura urbana i mar.\n\nResum\nLa Fira Mediterrània de Patchwork és una cita que combina artesania tèxtil\, creativitat i entorn costaner. Sent un esdeveniment de caràcter local però amb projecció regional\, atraient tant els públics locals com visitants interessats en tècniques manuals. Sant Feliu de Guíxols\, al Baix Empordà\, ofereix un marc privilegiat que enriqueix la proposta\, juntament amb altres activitats culturals al municipi.
URL:https://firescatalanes.cat/fires/fira-mediterrania-de-patchwork-a-sant-feliu-de-guixols/
LOCATION:Sant Feliu de Guíxols\, Sant Feliu de Guíxols\, Baix Empordà\, 17220\, Espanya
CATEGORIES:Artesania, art i manualitats
ATTACH;FMTTYPE=image/jpeg:https://firescatalanes.cat/wp-content/uploads/2025/02/Guixols-senfira-19-67Gb6W.tmp_.jpg
ORGANIZER;CN="Ajuntament de Sant Feliu de Gu%C3%ADxols":MAILTO:activitateconomica@guixols.cat
GEO:41.787768377676;3.0313596259723
END:VEVENT
END:VCALENDAR