BEGIN:VCALENDAR
VERSION:2.0
PRODID:-//Fires Catalanes - ECPv6.13.1//NONSGML v1.0//EN
CALSCALE:GREGORIAN
METHOD:PUBLISH
X-WR-CALNAME:Fires Catalanes
X-ORIGINAL-URL:https://firescatalanes.cat
X-WR-CALDESC:Fires per Fires Catalanes
REFRESH-INTERVAL;VALUE=DURATION:PT1H
X-Robots-Tag:noindex
X-PUBLISHED-TTL:PT1H
BEGIN:VTIMEZONE
TZID:Europe/Madrid
BEGIN:DAYLIGHT
TZOFFSETFROM:+0100
TZOFFSETTO:+0200
TZNAME:CEST
DTSTART:20200329T010000
END:DAYLIGHT
BEGIN:STANDARD
TZOFFSETFROM:+0200
TZOFFSETTO:+0100
TZNAME:CET
DTSTART:20201025T010000
END:STANDARD
END:VTIMEZONE
BEGIN:VEVENT
DTSTART;VALUE=DATE:20200308
DTEND;VALUE=DATE:20200309
DTSTAMP:20260420T111323
CREATED:20250204T102139Z
LAST-MODIFIED:20260113T144050Z
UID:10001508-1583625600-1583625600@firescatalanes.cat
SUMMARY:Fira de la Dona del Maresme
DESCRIPTION:La Fira de la Dona del Maresme és un esdeveniment vibrant i ple de vida\, on la creativitat i l’emprenedoria femenina prenen protagonisme. Al cor de l’Espai Labandària\, al pintoresc Passeig Jaume Brutau\, 10\, de Sant Andreu de Llavaneres\, aquesta fira ofereix una experiència única per a tota la família. Descobreix una àmplia varietat d’estands que mostren i venen productes artesanals de gran qualitat\, des de bijuteria fins a roba i complements únics\, així com una selecció de llibres inspiradors. Gaudeix de les actuacions diverses que amenitzen la jornada\, i no et perdis la deliciosa xocolatada i la botifarrada popular que faran les delícies dels assistents. A més\, els més petits trobaran activitats infantils pensades especialment per a ells\, convertint la fira en una cita ineludible per a grans i petits. Vine a celebrar la creativitat\, la cultura i la gastronomia en una jornada plena de sorpreses i bon ambient!
URL:https://firescatalanes.cat/fires/fira-de-la-dona-del-maresme/
LOCATION:Sant Andreu de Llavaneres\, Sant Andreu de Llavaneres\, Maresme\, 08392\, Espanya
CATEGORIES:Artesania, art i manualitats
ATTACH;FMTTYPE=image/jpeg:https://firescatalanes.cat/wp-content/uploads/2025/02/Fira-de-la-Dona-del-Maresme-2020-l2xgd1.tmp_.jpg
GEO:41.575508973273;2.4836598510378
END:VEVENT
BEGIN:VEVENT
DTSTART;VALUE=DATE:20200308
DTEND;VALUE=DATE:20200309
DTSTAMP:20260420T111323
CREATED:20250204T102320Z
LAST-MODIFIED:20260113T144050Z
UID:10001520-1583625600-1583625600@firescatalanes.cat
SUMMARY:Fira d'Estocs a Vilassar de Dalt
DESCRIPTION:La Fira d’Estocs a Vilassar de Dalt és un esdeveniment imprescindible per als amants de les compres i la vida local. A la pintoresca Plaça de la Vila\, es reuneixen parades de comerç local que ofereixen una àmplia varietat de productes a preus irresistibles. Els visitants poden gaudir d’una experiència única mentre passegen entre els estands\, descobrint ofertes especials i productes exclusius. A més\, la fira ofereix activitats per a tota la família\, com jocs de fusta tradicionals que faran les delícies dels més petits. No pot faltar un bon vermut per completar el matí\, ideal per relaxar-se i socialitzar amb altres assistents. En cas de pluja\, l’esdeveniment es traslladarà a l’Estrella\, garantint que la diversió no s’aturi. T’hi esperem a les 10 h per viure una jornada plena d’animació i oportunitats.
URL:https://firescatalanes.cat/fires/fira-destocs-a-vilassar-de-dalt/
LOCATION:Vilassar de Dalt\, Vilassar de Dalt\, Maresme\, 08339\, Espanya
CATEGORIES:Brocanters, antiguitats, segona mà i oportunitats
ATTACH;FMTTYPE=image/jpeg:https://firescatalanes.cat/wp-content/uploads/2025/02/Fira-dEstocs-a-Vilassar-de-Dalt-2020-W1AJpi.tmp_.jpg
GEO:41.513390388457;2.3628145640852
END:VEVENT
BEGIN:VEVENT
DTSTART;VALUE=DATE:20200313
DTEND;VALUE=DATE:20200314
DTSTAMP:20260420T111323
CREATED:20250203T133330Z
LAST-MODIFIED:20260112T182220Z
UID:10001408-1584057600-1584057600@firescatalanes.cat
SUMMARY:Fira de l'estudiant a El Masnou
DESCRIPTION:FIRA CANCEL·LADA. Tot i la cancel·lació de l’esdeveniment aquest any\, la Fira de l’Estudiant a El Masnou sempre ha estat un punt de trobada essencial per a alumnes de 3r i 4t d’ESO que busquen orientació sobre el seu futur acadèmic i professional. Organitzada per l’Ajuntament del Masnou\, aquesta fira ofereix informació detallada sobre les diverses opcions d’estudis postobligatoris\, des de batxillerats fins a cicles formatius i altres alternatives educatives. Amb la participació de professionals del sector educatiu i institucions formatives\, els estudiants poden resoldre dubtes\, participar en tallers i xerrades\, i explorar les opcions que millor s’adaptin a les seves inquietuds i aspiracions. Tot plegat\, en un entorn proper i dinàmic que fomenta la presa de decisions informada i conscient sobre el futur acadèmic dels joves del municipi.
URL:https://firescatalanes.cat/fires/fira-de-lestudiant-a-el-masnou/
LOCATION:El Masnou\, El Masnou\, Maresme\, 08320\, Espanya
CATEGORIES:Educació, formació i ocupació
ORGANIZER;CN="Ajuntament del Masnou":MAILTO:oac@elmasnou.cat
GEO:41.482643695455;2.3114073141034
END:VEVENT
END:VCALENDAR