BEGIN:VCALENDAR
VERSION:2.0
PRODID:-//Fires Catalanes - ECPv6.13.1//NONSGML v1.0//EN
CALSCALE:GREGORIAN
METHOD:PUBLISH
X-WR-CALNAME:Fires Catalanes
X-ORIGINAL-URL:https://firescatalanes.cat
X-WR-CALDESC:Fires per Fires Catalanes
REFRESH-INTERVAL;VALUE=DURATION:PT1H
X-Robots-Tag:noindex
X-PUBLISHED-TTL:PT1H
BEGIN:VTIMEZONE
TZID:Europe/Madrid
BEGIN:DAYLIGHT
TZOFFSETFROM:+0100
TZOFFSETTO:+0200
TZNAME:CEST
DTSTART:20200329T010000
END:DAYLIGHT
BEGIN:STANDARD
TZOFFSETFROM:+0200
TZOFFSETTO:+0100
TZNAME:CET
DTSTART:20201025T010000
END:STANDARD
BEGIN:DAYLIGHT
TZOFFSETFROM:+0100
TZOFFSETTO:+0200
TZNAME:CEST
DTSTART:20210328T010000
END:DAYLIGHT
BEGIN:STANDARD
TZOFFSETFROM:+0200
TZOFFSETTO:+0100
TZNAME:CET
DTSTART:20211031T010000
END:STANDARD
BEGIN:DAYLIGHT
TZOFFSETFROM:+0100
TZOFFSETTO:+0200
TZNAME:CEST
DTSTART:20220327T010000
END:DAYLIGHT
BEGIN:STANDARD
TZOFFSETFROM:+0200
TZOFFSETTO:+0100
TZNAME:CET
DTSTART:20221030T010000
END:STANDARD
BEGIN:DAYLIGHT
TZOFFSETFROM:+0100
TZOFFSETTO:+0200
TZNAME:CEST
DTSTART:20230326T010000
END:DAYLIGHT
BEGIN:STANDARD
TZOFFSETFROM:+0200
TZOFFSETTO:+0100
TZNAME:CET
DTSTART:20231029T010000
END:STANDARD
BEGIN:DAYLIGHT
TZOFFSETFROM:+0100
TZOFFSETTO:+0200
TZNAME:CEST
DTSTART:20240331T010000
END:DAYLIGHT
BEGIN:STANDARD
TZOFFSETFROM:+0200
TZOFFSETTO:+0100
TZNAME:CET
DTSTART:20241027T010000
END:STANDARD
BEGIN:DAYLIGHT
TZOFFSETFROM:+0100
TZOFFSETTO:+0200
TZNAME:CEST
DTSTART:20250330T010000
END:DAYLIGHT
BEGIN:STANDARD
TZOFFSETFROM:+0200
TZOFFSETTO:+0100
TZNAME:CET
DTSTART:20251026T010000
END:STANDARD
END:VTIMEZONE
BEGIN:VEVENT
DTSTART;VALUE=DATE:20251115
DTEND;VALUE=DATE:20251117
DTSTAMP:20260421T114008
CREATED:20250130T120717Z
LAST-MODIFIED:20260112T183435Z
UID:10000665-1763164800-1763337599@firescatalanes.cat
SUMMARY:Diada de la Fira de Salàs
DESCRIPTION:Diada de record de l’antiga fira de bestiar de peu rodó que se celebrava a la població des del segle XIV fins a mitjans dels anys 70 del segle XX. \nLa Diada de la Fira de Salàs de Pallars és una de les cites més emblemàtiques del Pallars Jussà\, una jornada que transforma el poble en un gran espai de trobada on la tradició\, la cultura i el comerç conviuen en harmonia. Els carrers empedrats de Salàs s’omplen d’activitat\, amb parades d’artesania\, productes locals\, bestiar i demostracions d’oficis antics que recorden el passat comercial i agrícola del municipi. \nLa fira manté viu l’esperit de les antigues fires de bestiar que havien convertit Salàs en un punt de referència a la comarca. Avui\, aquest esperit es renova amb una oferta que combina productes de proximitat\, degustacions\, música en directe i activitats per a totes les edats\, creant una jornada festiva que respira autenticitat i orgull de poble. \nEls visitants poden recórrer el nucli històric\, participar en tallers\,  mirar les activitats infantils\, gaudir de les propostes gastronòmiques o simplement deixar-se portar per l’ambient acollidor que caracteritza aquesta fira. És també una ocasió ideal per conèixer més a fons el patrimoni local i la manera de viure del món rural pirinenc. \nI si visites Salàs\, no oblidis fer parada al Museu de Salàs de Pallars\, on les botigues antigues recreades et transportaran a un altre temps: farmàcia\, barberia\, estanc… tots plens d’objectes originals que expliquen la història quotidiana del segle XX. Una experiència única que completa a la perfecció la visita a aquesta diada plena de vida i tradició.
URL:https://firescatalanes.cat/fires/diada-de-la-fira-de-salas/
LOCATION:Salàs de Pallars\, Salàs de Pallars\, Pallars Jussà\, 25693\, Espanya
CATEGORIES:Agricultura, ramaderia i pesca
ATTACH;FMTTYPE=image/png:https://firescatalanes.cat/wp-content/uploads/2025/01/Diada-de-la-Fira-de-Salas-portada-2023-1-min-TyLEt7.tmp_.png
ORGANIZER;CN="Ajuntament de Sal%C3%A0s de Pallars":MAILTO:fira@salas.cat
GEO:42.213055558802;0.93159944487819
END:VEVENT
BEGIN:VEVENT
DTSTART;VALUE=DATE:20200808
DTEND;VALUE=DATE:20200810
DTSTAMP:20260421T114008
CREATED:20250128T133012Z
LAST-MODIFIED:20260112T182812Z
UID:10000457-1596844800-1596931200@firescatalanes.cat
SUMMARY:Fira d'Art a Salàs de Pallars
DESCRIPTION:FIRA AJORNADA. La junta de l’organització considera que actualment “no es donen les condicions adequades per tirar endavant l’edició d’enguany”. \nDesprés de més de vint anys\, la Fira d’Art de Salàs és una realitat plenament consolidada\, una cita ineludible que ha convertit la població en un punt de trobada de col·lectius de pintors\, escultors\, fotògrafs\, dibuixants que saben que tenen a Salàs un espai singular per mostrar la seva obra.
URL:https://firescatalanes.cat/fires/fira-dart-a-salas-de-pallars/
LOCATION:Salàs de Pallars\, Salàs de Pallars\, Pallars Jussà\, 25693\, Espanya
CATEGORIES:Artesania, art i manualitats
GEO:42.213055558802;0.93159944487819
END:VEVENT
END:VCALENDAR